BEGIN:VCALENDAR
VERSION:2.0
PRODID:-//Tidenham Parish Council//Meeting Calendar//EN
CALSCALE:GREGORIAN
METHOD:PUBLISH
BEGIN:VEVENT
UID:70695-20220504@tidenhamparishcouncil.gov.uk
DTSTAMP:20260419T155516Z
DTSTART;VALUE=DATE:20220504
DTEND;VALUE=DATE:20220505
SUMMARY:Annual Parish Meeting &#8211\\; 4 May 2022
DESCRIPTION:Annual Parish Meeting\nView details: https://tidenhamparishcouncil.gov.uk/meetings/annual-parish-meeting-4-may-2022/
URL:https://tidenhamparishcouncil.gov.uk/meetings/annual-parish-meeting-4-may-2022/
END:VEVENT
END:VCALENDAR
