BEGIN:VCALENDAR
VERSION:2.0
PRODID:-//Tidenham Parish Council//Meeting Calendar//EN
CALSCALE:GREGORIAN
METHOD:PUBLISH
BEGIN:VEVENT
UID:70622-20230531@tidenhamparishcouncil.gov.uk
DTSTAMP:20260419T154552Z
DTSTART;VALUE=DATE:20230531
DTEND;VALUE=DATE:20230601
SUMMARY:Annual Parish Meeting &#8211\\; 31 May 2023
DESCRIPTION:Annual Parish Meeting\nView details: https://tidenhamparishcouncil.gov.uk/meetings/annual-parish-meeting-31-may-2023/
URL:https://tidenhamparishcouncil.gov.uk/meetings/annual-parish-meeting-31-may-2023/
END:VEVENT
END:VCALENDAR
